BEGIN:VCALENDAR
VERSION:2.0
PRODID:-//Students Without Mothers - ECPv6.15.20//NONSGML v1.0//EN
CALSCALE:GREGORIAN
METHOD:PUBLISH
X-WR-CALNAME:Students Without Mothers
X-ORIGINAL-URL:https://studentswithoutmothers.org
X-WR-CALDESC:Events for Students Without Mothers
REFRESH-INTERVAL;VALUE=DURATION:PT1H
X-Robots-Tag:noindex
X-PUBLISHED-TTL:PT1H
BEGIN:VTIMEZONE
TZID:America/New_York
BEGIN:DAYLIGHT
TZOFFSETFROM:-0500
TZOFFSETTO:-0400
TZNAME:EDT
DTSTART:20240310T070000
END:DAYLIGHT
BEGIN:STANDARD
TZOFFSETFROM:-0400
TZOFFSETTO:-0500
TZNAME:EST
DTSTART:20241103T060000
END:STANDARD
BEGIN:DAYLIGHT
TZOFFSETFROM:-0500
TZOFFSETTO:-0400
TZNAME:EDT
DTSTART:20250309T070000
END:DAYLIGHT
BEGIN:STANDARD
TZOFFSETFROM:-0400
TZOFFSETTO:-0500
TZNAME:EST
DTSTART:20251102T060000
END:STANDARD
BEGIN:DAYLIGHT
TZOFFSETFROM:-0500
TZOFFSETTO:-0400
TZNAME:EDT
DTSTART:20260308T070000
END:DAYLIGHT
BEGIN:STANDARD
TZOFFSETFROM:-0400
TZOFFSETTO:-0500
TZNAME:EST
DTSTART:20261101T060000
END:STANDARD
BEGIN:DAYLIGHT
TZOFFSETFROM:-0500
TZOFFSETTO:-0400
TZNAME:EDT
DTSTART:20270314T070000
END:DAYLIGHT
BEGIN:STANDARD
TZOFFSETFROM:-0400
TZOFFSETTO:-0500
TZNAME:EST
DTSTART:20271107T060000
END:STANDARD
END:VTIMEZONE
BEGIN:VEVENT
DTSTART;TZID=America/New_York:20251015T000000
DTEND;TZID=America/New_York:20251231T000000
DTSTAMP:20260423T193511
CREATED:20251014T144506Z
LAST-MODIFIED:20251113T193619Z
UID:10978-1760486400-1767139200@studentswithoutmothers.org
SUMMARY:2025 Year End Pledge Campaign
DESCRIPTION:Please support our Year End Pledge campaign by pledging to serve as a Student Sponsor or Student Aid Sponsor (details below) or click here to make a one-time donation. \nStudent Sponsor \nFully support a student for their 5-year period in the program (senior year of high school through 4 years of college); student receives scholarship funds\, life coaching\, grief counseling\, dormitory supplies\, laptop computer and emergency funds. \nSponsorship donation can be made in a lump sum of $10k or $2k per year for 5 years or a monthly donation of $167/month for a 5-year period. \nStudent Aid Sponsor \nProvide supplemental support to include care packages and emergency funds for 1 student for a one-year period. \nSponsorship donation can be made in a lump sum of $500 or a monthly donation of $42/month. \nSponsors receive a one-sheet profile of the student sponsored to include their photo\, their story\, where they attend/plan to attend college and a little bit about their hobbies and interests. \nClick here to select a sponsor option and complete a pledge form. The monthly donation begins on the date you select for your initial donation. \n  \n\nConsider a Tax-Wise Gift \n\n\nAs you plan your year-end giving\, please consider supporting Students Without Mothers through a tax-advantaged contribution. You can fulfill your Required Minimum Distribution (RMD) directly from your brokerage account or donate appreciated\, low-cost basis stock to make an even greater impact. For more information\, contact Mary Torrence Williams at torrence@studentswithoutmothers.org.
URL:https://studentswithoutmothers.org/event/2025-year-end-pledge-campaign/
ATTACH;FMTTYPE=image/png:https://studentswithoutmothers.org/wp-content/uploads/2025/10/SWM-EOY-Campaign-2025-flyer-1-e1763062530855.png
END:VEVENT
BEGIN:VEVENT
DTSTART;VALUE=DATE:20260504
DTEND;VALUE=DATE:20260505
DTSTAMP:20260423T193511
CREATED:20260210T194759Z
LAST-MODIFIED:20260220T155705Z
UID:13113-1777852800-1777939199@studentswithoutmothers.org
SUMMARY:Annual Golf Tournament
DESCRIPTION:View Tickets and Sponsorship Opportunities
URL:https://studentswithoutmothers.org/event/annual-golf-tournament/
LOCATION:Smoke Rise Country Club\, 4900 Chedworth Dr\, Stone Mountain\, GA\, 30087\, United States
ATTACH;FMTTYPE=image/png:https://studentswithoutmothers.org/wp-content/uploads/2026/02/2.png
END:VEVENT
BEGIN:VEVENT
DTSTART;TZID=America/New_York:20260619T113000
DTEND;TZID=America/New_York:20260619T130000
DTSTAMP:20260423T193511
CREATED:20260122T181705Z
LAST-MODIFIED:20260401T144132Z
UID:12986-1781868600-1781874000@studentswithoutmothers.org
SUMMARY:Annual Scholarship Luncheon 2026
DESCRIPTION:View Tickets and Sponsorship Opportunities
URL:https://studentswithoutmothers.org/event/annual-scholarship-luncheon-2026/
LOCATION:Global Ministries Campus (Fellowship Hall)\, 458 Ponce de Leon Avenue\, NE\, Building A\, Atlanta\, GA\, 30308\, United States
ATTACH;FMTTYPE=image/png:https://studentswithoutmothers.org/wp-content/uploads/2026/01/SWM-Awards-Luncheon-2026-flyer-2.png
ORGANIZER;CN="Students Without Mothers":MAILTO:support@studentswithoutmothers.org
END:VEVENT
BEGIN:VEVENT
DTSTART;VALUE=DATE:20260919
DTEND;VALUE=DATE:20260920
DTSTAMP:20260423T193511
CREATED:20260423T173906Z
LAST-MODIFIED:20260423T173906Z
UID:13952-1789776000-1789862399@studentswithoutmothers.org
SUMMARY:Save the Date: Annual Chastain for Charity Benefit Concert
DESCRIPTION:More Details Coming Soon!
URL:https://studentswithoutmothers.org/event/save-the-date-annual-chastain-for-charity-benefit-concert/
ATTACH;FMTTYPE=image/png:https://studentswithoutmothers.org/wp-content/uploads/2026/04/Instagram1.png
ORGANIZER;CN="Students Without Mothers":MAILTO:support@studentswithoutmothers.org
END:VEVENT
END:VCALENDAR