BEGIN:VCALENDAR
VERSION:2.0
PRODID:-//Students Without Mothers - ECPv6.15.20//NONSGML v1.0//EN
CALSCALE:GREGORIAN
METHOD:PUBLISH
X-WR-CALNAME:Students Without Mothers
X-ORIGINAL-URL:https://studentswithoutmothers.org
X-WR-CALDESC:Events for Students Without Mothers
REFRESH-INTERVAL;VALUE=DURATION:PT1H
X-Robots-Tag:noindex
X-PUBLISHED-TTL:PT1H
BEGIN:VTIMEZONE
TZID:America/New_York
BEGIN:DAYLIGHT
TZOFFSETFROM:-0500
TZOFFSETTO:-0400
TZNAME:EDT
DTSTART:20190310T070000
END:DAYLIGHT
BEGIN:STANDARD
TZOFFSETFROM:-0400
TZOFFSETTO:-0500
TZNAME:EST
DTSTART:20191103T060000
END:STANDARD
BEGIN:DAYLIGHT
TZOFFSETFROM:-0500
TZOFFSETTO:-0400
TZNAME:EDT
DTSTART:20200308T070000
END:DAYLIGHT
BEGIN:STANDARD
TZOFFSETFROM:-0400
TZOFFSETTO:-0500
TZNAME:EST
DTSTART:20201101T060000
END:STANDARD
BEGIN:DAYLIGHT
TZOFFSETFROM:-0500
TZOFFSETTO:-0400
TZNAME:EDT
DTSTART:20210314T070000
END:DAYLIGHT
BEGIN:STANDARD
TZOFFSETFROM:-0400
TZOFFSETTO:-0500
TZNAME:EST
DTSTART:20211107T060000
END:STANDARD
END:VTIMEZONE
BEGIN:VEVENT
DTSTART;TZID=America/New_York:20201104T080000
DTEND;TZID=America/New_York:20201231T235900
DTSTAMP:20260423T234941
CREATED:20201103T040111Z
LAST-MODIFIED:20201103T172940Z
UID:947-1604476800-1609459140@studentswithoutmothers.org
SUMMARY:Year-End Campaign 2020
DESCRIPTION:Thank you for your past support of Students Without Mothers! We hope we can count on you to support our Year-End Pledge Campaign by making a one-time donation or by pledging to become a monthly donor next year. Thanks to our donors\, we are able to provide students who are without their mothers with scholarship funds and other resources needed to pursue a college education. Many of the students we support have no other support system\, making SWM critical to their success. \nScholarship recipients are selected during their junior year of high school and are required to participate in our year-long life coaching program during their senior year prior to receiving scholarship funds. Other resources provided include life coaching\, grief counseling\, laptop computers\, emergency funds and dormitory supplies. In addition to scholarship funds\, coaching and counseling services are available to our students throughout their college years. \nWould you be willing to help make life a little easier for a student in need by either making a one-time lump sum donation or pledging to make a monthly donation starting in January? \nThe cost to provide one student with scholarship support\, life coaching\, grief counseling\, emergency funds and general support is approximately $2\,000 per year. Please consider fully supporting one student or providing a portion of the support needed to help one student. \n\n\n\nFull support for 1 student for 1 year:\n$2\,000 lump sum\n$167/month\n\n\n50% support for 1 student for 1 year:\n$1\,000 lump sum\n$84/month\n\n\n25% support for 1 student for 1 year:\n$500 lump sum\n$42/month\n\n\nSupport of any amount you choose:\n$___ lump sum\n$__/month\n\n\n\n\nHow to Help:\n– Click here to make your one-time donation toward our 2020 year-end campaign.\n– To pledge to become a monthly donor next year please email us at torrence@studentswithoutmothers.org with the monthly amount of your pledge. We will contact you with further instructions on how to set up your monthly donations for automatic deduction from your debit or credit card on your preferred date each month starting in January 2021. \nThis year has been extremely challenging for our students. Most of them were barely making ends meet prior to the pandemic\, and since that time many of them and their guardians are struggling to get the basic essentials needed to survive. They need our help now more than ever. We appreciate the dedication of our donors who continue to allow us to come through for our students\, giving them a chance at a brighter future!
URL:https://studentswithoutmothers.org/event/year-end-campaign-2020/
LOCATION:Online
ATTACH;FMTTYPE=image/png:https://studentswithoutmothers.org/wp-content/uploads/2020/11/Year-End-Campaign-2.png
ORGANIZER;CN="Sylvia Ware":MAILTO:support@studentswithoutmothers.org
END:VEVENT
END:VCALENDAR